BEGIN:VCALENDAR
VERSION:2.0
CALSCALE:GREGORIAN
PRODID:UnionActive
BEGIN:VEVENT
UID:11757930@ibew2.org
SUMMARY:Regular Meeting
DESCRIPTION:Contact:  \nLink for more information: http://ibew2.org/index.cfm?zone=/unionactive/view_calendar.cfm&calendarID=11757930&thisdate=05/08/2023&useCalSection=main
LOCATION:
URL:http://ibew2.org/index.cfm?zone=/unionactive/view_calendar.cfm&calendarID=11757930&thisdate=05/08/2023&useCalSection=main
DTSTART:20230509T000000Z
DTEND:20230509T010000Z
DTSTAMP:20240229T142316
TRIGGER:-PT60M
END:VEVENT
END:VCALENDAR
