BEGIN:VCALENDAR
VERSION:2.0
CALSCALE:GREGORIAN
PRODID:UnionActive
BEGIN:VEVENT
UID:11757929@ibew2.org
SUMMARY:Regular Meeting
DESCRIPTION:Contact:  \nLink for more information: http://ibew2.org/index.cfm?zone=/unionactive/view_calendar.cfm&calendarID=11757929&thisdate=04/10/2023&useCalSection=main
LOCATION:
URL:http://ibew2.org/index.cfm?zone=/unionactive/view_calendar.cfm&calendarID=11757929&thisdate=04/10/2023&useCalSection=main
DTSTART:20230411T000000Z
DTEND:20230411T010000Z
DTSTAMP:20240229T142652
TRIGGER:-PT60M
END:VEVENT
END:VCALENDAR
