BEGIN:VCALENDAR
VERSION:2.0
CALSCALE:GREGORIAN
PRODID:UnionActive
BEGIN:VEVENT
UID:11757928@ibew2.org
SUMMARY:Regular Meeting
DESCRIPTION:Contact:  \nLink for more information: http://ibew2.org/index.cfm?zone=/unionactive/view_calendar.cfm&calendarID=11757928&thisdate=03/13/2023&useCalSection=main
LOCATION:
URL:http://ibew2.org/index.cfm?zone=/unionactive/view_calendar.cfm&calendarID=11757928&thisdate=03/13/2023&useCalSection=main
DTSTART:20230314T000000Z
DTEND:20230314T010000Z
DTSTAMP:20240229T142247
TRIGGER:-PT60M
END:VEVENT
END:VCALENDAR
