BEGIN:VCALENDAR
VERSION:2.0
CALSCALE:GREGORIAN
PRODID:UnionActive
BEGIN:VEVENT
UID:11757925@ibew2.org
SUMMARY:Regular Meeting
DESCRIPTION:Contact:  \nLink for more information: http://ibew2.org/index.cfm?zone=/unionactive/view_calendar.cfm&calendarID=11757925&thisdate=12/12/2022&useCalSection=main
LOCATION:
URL:http://ibew2.org/index.cfm?zone=/unionactive/view_calendar.cfm&calendarID=11757925&thisdate=12/12/2022&useCalSection=main
DTSTART:20221213T010000Z
DTEND:20221213T020000Z
DTSTAMP:20240229T142911
TRIGGER:-PT60M
END:VEVENT
END:VCALENDAR
