BEGIN:VCALENDAR
VERSION:2.0
CALSCALE:GREGORIAN
PRODID:UnionActive
BEGIN:VEVENT
UID:11757921@ibew2.org
SUMMARY:Regular Meeting
DESCRIPTION:Contact:  \nLink for more information: http://ibew2.org/index.cfm?zone=/unionactive/view_calendar.cfm&calendarID=11757921&thisdate=08/08/2022&useCalSection=main
LOCATION:
URL:http://ibew2.org/index.cfm?zone=/unionactive/view_calendar.cfm&calendarID=11757921&thisdate=08/08/2022&useCalSection=main
DTSTART:20220809T000000Z
DTEND:20220809T010000Z
DTSTAMP:20240229T142939
TRIGGER:-PT60M
END:VEVENT
END:VCALENDAR
