BEGIN:VCALENDAR
VERSION:2.0
CALSCALE:GREGORIAN
PRODID:UnionActive
BEGIN:VEVENT
UID:11757911@ibew2.org
SUMMARY:Regular Meeting
DESCRIPTION:Contact:  \nLink for more information: http://ibew2.org/index.cfm?zone=/unionactive/view_calendar.cfm&calendarID=11757911&thisdate=10/11/2021&useCalSection=main
LOCATION:
URL:http://ibew2.org/index.cfm?zone=/unionactive/view_calendar.cfm&calendarID=11757911&thisdate=10/11/2021&useCalSection=main
DTSTART:20211012T000000Z
DTEND:20211012T010000Z
DTSTAMP:20240229T142915
TRIGGER:-PT60M
END:VEVENT
END:VCALENDAR
