BEGIN:VCALENDAR
VERSION:2.0
CALSCALE:GREGORIAN
PRODID:UnionActive
BEGIN:VEVENT
UID:11757906@ibew2.org
SUMMARY:Regular Meeting
DESCRIPTION:Contact:  \nLink for more information: http://ibew2.org/index.cfm?zone=/unionactive/view_calendar.cfm&calendarID=11757906&thisdate=05/10/2021&useCalSection=main
LOCATION:
URL:http://ibew2.org/index.cfm?zone=/unionactive/view_calendar.cfm&calendarID=11757906&thisdate=05/10/2021&useCalSection=main
DTSTART:20210511T000000Z
DTEND:20210511T010000Z
DTSTAMP:20240229T142922
TRIGGER:-PT60M
END:VEVENT
END:VCALENDAR
