BEGIN:VCALENDAR
VERSION:2.0
CALSCALE:GREGORIAN
PRODID:UnionActive
BEGIN:VEVENT
UID:11757893@ibew2.org
SUMMARY:Regular Meeting
DESCRIPTION:Contact:  \nLink for more information: http://ibew2.org/index.cfm?zone=/unionactive/view_calendar.cfm&calendarID=11757893&thisdate=04/13/2020&useCalSection=main
LOCATION:
URL:http://ibew2.org/index.cfm?zone=/unionactive/view_calendar.cfm&calendarID=11757893&thisdate=04/13/2020&useCalSection=main
DTSTART:20200414T000000Z
DTEND:20200414T010000Z
DTSTAMP:20240229T143152
TRIGGER:-PT60M
END:VEVENT
END:VCALENDAR
