BEGIN:VCALENDAR
VERSION:2.0
CALSCALE:GREGORIAN
PRODID:UnionActive
BEGIN:VEVENT
UID:11757890@ibew2.org
SUMMARY:Regular Meeting
DESCRIPTION:Contact:  \nLink for more information: http://ibew2.org/index.cfm?zone=/unionactive/view_calendar.cfm&calendarID=11757890&thisdate=01/13/2020&useCalSection=main
LOCATION:
URL:http://ibew2.org/index.cfm?zone=/unionactive/view_calendar.cfm&calendarID=11757890&thisdate=01/13/2020&useCalSection=main
DTSTART:20200114T010000Z
DTEND:20200114T020000Z
DTSTAMP:20240229T143150
TRIGGER:-PT60M
END:VEVENT
END:VCALENDAR
