BEGIN:VCALENDAR
VERSION:2.0
CALSCALE:GREGORIAN
PRODID:UnionActive
BEGIN:VEVENT
UID:11757886@ibew2.org
SUMMARY:Regular Meeting
DESCRIPTION:Contact:  \nLink for more information: http://ibew2.org/index.cfm?zone=/unionactive/view_calendar.cfm&calendarID=11757886&thisdate=09/09/2019&useCalSection=main
LOCATION:
URL:http://ibew2.org/index.cfm?zone=/unionactive/view_calendar.cfm&calendarID=11757886&thisdate=09/09/2019&useCalSection=main
DTSTART:20190910T000000Z
DTEND:20190910T010000Z
DTSTAMP:20240229T143351
TRIGGER:-PT60M
END:VEVENT
END:VCALENDAR
