BEGIN:VCALENDAR
VERSION:2.0
CALSCALE:GREGORIAN
PRODID:UnionActive
BEGIN:VEVENT
UID:11140497@ibew2.org
SUMMARY:St Clair LCTT meeting
DESCRIPTION:Contact: Kenny Peebles \nLink for more information: http://ibew2.org/index.cfm?zone=/unionactive/view_calendar.cfm&calendarID=11140497&thisdate=11/20/2019&useCalSection=main
LOCATION:IBEW #2 Training Center
1075 N Service Rd W
St Clair, MO 63077

(just east of the St Clair VFW post)
URL:http://ibew2.org/index.cfm?zone=/unionactive/view_calendar.cfm&calendarID=11140497&thisdate=11/20/2019&useCalSection=main
DTSTART:20191120T233000Z
DTEND:20191121T003000Z
DTSTAMP:20240229T143356
TRIGGER:-PT60M
END:VEVENT
END:VCALENDAR
