BEGIN:VCALENDAR
VERSION:2.0
CALSCALE:GREGORIAN
PRODID:UnionActive
BEGIN:VEVENT
UID:11140496@ibew2.org
SUMMARY:St Clair LCTT meeting
DESCRIPTION:Contact: Kenny Peebles \nLink for more information: http://ibew2.org/index.cfm?zone=/unionactive/view_calendar.cfm&calendarID=11140496&thisdate=09/18/2019&useCalSection=main
LOCATION:IBEW #2 Training Center
1075 N Service Rd W
St Clair, MO 63077
 (just east of the St Clair VFW hall)
URL:http://ibew2.org/index.cfm?zone=/unionactive/view_calendar.cfm&calendarID=11140496&thisdate=09/18/2019&useCalSection=main
DTSTART:20190918T223000Z
DTEND:20190918T233000Z
DTSTAMP:20240229T143359
TRIGGER:-PT60M
END:VEVENT
END:VCALENDAR
