BEGIN:VCALENDAR
VERSION:2.0
CALSCALE:GREGORIAN
PRODID:UnionActive
BEGIN:VEVENT
UID:11140494@ibew2.org
SUMMARY:Jefferson City LCTT meeting
DESCRIPTION:Contact: Kenny Peebles \nLink for more information: http://ibew2.org/index.cfm?zone=/unionactive/view_calendar.cfm&calendarID=11140494&thisdate=09/24/2019&useCalSection=main
LOCATION:Jefferson City Labor Temple
209 Flora Drive
Jefferson City, MO 65101
URL:http://ibew2.org/index.cfm?zone=/unionactive/view_calendar.cfm&calendarID=11140494&thisdate=09/24/2019&useCalSection=main
DTSTART:20190924T223000Z
DTEND:20190924T233000Z
DTSTAMP:20240229T143359
TRIGGER:-PT60M
END:VEVENT
END:VCALENDAR
