BEGIN:VCALENDAR
VERSION:2.0
CALSCALE:GREGORIAN
PRODID:UnionActive
BEGIN:VEVENT
UID:11140490@ibew2.org
SUMMARY:Festus LCTT meeting
DESCRIPTION:Contact: Kenny Peebles  \nLink for more information: http://ibew2.org/index.cfm?zone=/unionactive/view_calendar.cfm&calendarID=11140490&thisdate=10/01/2019&useCalSection=main
LOCATION:American Legion Post 253
849 American Legion Drive
Festus, MO 63028
URL:http://ibew2.org/index.cfm?zone=/unionactive/view_calendar.cfm&calendarID=11140490&thisdate=10/01/2019&useCalSection=main
DTSTART:20191001T223000Z
DTEND:20191001T233000Z
DTSTAMP:20240229T143354
TRIGGER:-PT60M
END:VEVENT
END:VCALENDAR
