BEGIN:VCALENDAR
VERSION:2.0
CALSCALE:GREGORIAN
PRODID:UnionActive
BEGIN:VEVENT
UID:6823744@ibew2.org
SUMMARY:Regular Meeting
DESCRIPTION:Contact:  \nLink for more information: http://ibew2.org/index.cfm?zone=/unionactive/view_calendar.cfm&calendarID=6823744&thisdate=11/04/2013&useCalSection=main
LOCATION:St Louis Union Hall
2131 59th Street
St Louis, MO 63110
URL:http://ibew2.org/index.cfm?zone=/unionactive/view_calendar.cfm&calendarID=6823744&thisdate=11/04/2013&useCalSection=main
DTSTART:20131105T010000Z
DTEND:20131105T020000Z
DTSTAMP:20260419T194948
TRIGGER:-PT60M
END:VEVENT
END:VCALENDAR
