BEGIN:VCALENDAR
VERSION:2.0
CALSCALE:GREGORIAN
PRODID:UnionActive
BEGIN:VEVENT
UID:6562048@ibew2.org
SUMMARY:OSHA-20 hour (T&D)
DESCRIPTION:Contact: Contact the St Louis office if you have any questions - (314) 645-2236 \nLink for more information: http://ibew2.org/index.cfm?zone=/unionactive/view_calendar.cfm&calendarID=6562048&thisdate=08/15/2013&useCalSection=main
LOCATION:IBEW #2 Training Center 
1075 N Service Road W
St Clair, MO 63077
URL:http://ibew2.org/index.cfm?zone=/unionactive/view_calendar.cfm&calendarID=6562048&thisdate=08/15/2013&useCalSection=main
DTSTART:20130815T210000Z
DTEND:20130817T220000Z
DTSTAMP:20260419T181219
TRIGGER:-PT60M
END:VEVENT
END:VCALENDAR
