BEGIN:VCALENDAR
VERSION:2.0
CALSCALE:GREGORIAN
PRODID:UnionActive
BEGIN:VEVENT
UID:6562047@ibew2.org
SUMMARY:OSHA-10 hr (T&D) 
DESCRIPTION:Contact: contact the St Louis office if you have any questions - (314) 645-2236  \nLink for more information: http://ibew2.org/index.cfm?zone=/unionactive/view_calendar.cfm&calendarID=6562047&thisdate=08/02/2013&useCalSection=main
LOCATION:IBEW #2 Training Center
1075 N Service Road W
St Clair, MO 63077
URL:http://ibew2.org/index.cfm?zone=/unionactive/view_calendar.cfm&calendarID=6562047&thisdate=08/02/2013&useCalSection=main
DTSTART:20130802T210000Z
DTEND:20130803T220000Z
DTSTAMP:20260419T181422
TRIGGER:-PT60M
END:VEVENT
END:VCALENDAR
