BEGIN:VCALENDAR
VERSION:2.0
CALSCALE:GREGORIAN
PRODID:UnionActive
BEGIN:VEVENT
UID:6452905@ibew2.org
SUMMARY:Tipton Unit Meeting
DESCRIPTION:Contact:  \nLink for more information: http://ibew2.org/index.cfm?zone=/unionactive/view_calendar.cfm&calendarID=6452905&thisdate=08/06/2013&useCalSection=main
LOCATION:TBD
URL:http://ibew2.org/index.cfm?zone=/unionactive/view_calendar.cfm&calendarID=6452905&thisdate=08/06/2013&useCalSection=main
DTSTART:20130806T213000Z
DTEND:20130806T223000Z
DTSTAMP:20260419T232859
TRIGGER:-PT60M
END:VEVENT
END:VCALENDAR
