BEGIN:VCALENDAR
VERSION:2.0
CALSCALE:GREGORIAN
PRODID:UnionActive
BEGIN:VEVENT
UID:6452902@ibew2.org
SUMMARY:St Louis Tree Trimmers Meeting
DESCRIPTION:Contact:  \nLink for more information: http://ibew2.org/index.cfm?zone=/unionactive/view_calendar.cfm&calendarID=6452902&thisdate=08/12/2013&useCalSection=main
LOCATION:St Louis Union Hall
URL:http://ibew2.org/index.cfm?zone=/unionactive/view_calendar.cfm&calendarID=6452902&thisdate=08/12/2013&useCalSection=main
DTSTART:20130812T213000Z
DTEND:20130812T223000Z
DTSTAMP:20260419T195018
TRIGGER:-PT60M
END:VEVENT
END:VCALENDAR
