BEGIN:VCALENDAR
VERSION:2.0
CALSCALE:GREGORIAN
PRODID:UnionActive
BEGIN:VEVENT
UID:6452896@ibew2.org
SUMMARY:Perryville Unit Meeting
DESCRIPTION:Contact:  \nLink for more information: http://ibew2.org/index.cfm?zone=/unionactive/view_calendar.cfm&calendarID=6452896&thisdate=10/24/2013&useCalSection=main
LOCATION:Perryville VFW
URL:http://ibew2.org/index.cfm?zone=/unionactive/view_calendar.cfm&calendarID=6452896&thisdate=10/24/2013&useCalSection=main
DTSTART:20131024T220000Z
DTEND:20131024T230000Z
DTSTAMP:20260419T232155
TRIGGER:-PT60M
END:VEVENT
END:VCALENDAR
