BEGIN:VCALENDAR
VERSION:2.0
CALSCALE:GREGORIAN
PRODID:UnionActive
BEGIN:VEVENT
UID:6452883@ibew2.org
SUMMARY:Macon Unit Meeting
DESCRIPTION:Contact:  \nLink for more information: http://ibew2.org/index.cfm?zone=/unionactive/view_calendar.cfm&calendarID=6452883&thisdate=07/16/2013&useCalSection=main
LOCATION:cooperative headquarters
URL:http://ibew2.org/index.cfm?zone=/unionactive/view_calendar.cfm&calendarID=6452883&thisdate=07/16/2013&useCalSection=main
DTSTART:20130716T213000Z
DTEND:20130716T223000Z
DTSTAMP:20260419T182117
TRIGGER:-PT60M
END:VEVENT
END:VCALENDAR
