BEGIN:VCALENDAR
VERSION:2.0
CALSCALE:GREGORIAN
PRODID:UnionActive
BEGIN:VEVENT
UID:6452878@ibew2.org
SUMMARY:Lewistown Unit Meeting
DESCRIPTION:Contact:  \nLink for more information: http://ibew2.org/index.cfm?zone=/unionactive/view_calendar.cfm&calendarID=6452878&thisdate=12/11/2013&useCalSection=main
LOCATION:
URL:http://ibew2.org/index.cfm?zone=/unionactive/view_calendar.cfm&calendarID=6452878&thisdate=12/11/2013&useCalSection=main
DTSTART:20131211T223000Z
DTEND:20131211T233000Z
DTSTAMP:20260419T213840
TRIGGER:-PT60M
END:VEVENT
END:VCALENDAR
