BEGIN:VCALENDAR
VERSION:2.0
CALSCALE:GREGORIAN
PRODID:UnionActive
BEGIN:VEVENT
UID:6452872@ibew2.org
SUMMARY:Kirksville Unit Meeting
DESCRIPTION:Contact:  \nLink for more information: http://ibew2.org/index.cfm?zone=/unionactive/view_calendar.cfm&calendarID=6452872&thisdate=11/14/2013&useCalSection=main
LOCATION:company headquarters
URL:http://ibew2.org/index.cfm?zone=/unionactive/view_calendar.cfm&calendarID=6452872&thisdate=11/14/2013&useCalSection=main
DTSTART:20131114T223000Z
DTEND:20131114T233000Z
DTSTAMP:20260419T200018
TRIGGER:-PT60M
END:VEVENT
END:VCALENDAR
