BEGIN:VCALENDAR
VERSION:2.0
CALSCALE:GREGORIAN
PRODID:UnionActive
BEGIN:VEVENT
UID:6452858@ibew2.org
SUMMARY:Hannibal Unit Meeting
DESCRIPTION:Contact:  \nLink for more information: http://ibew2.org/index.cfm?zone=/unionactive/view_calendar.cfm&calendarID=6452858&thisdate=12/19/2013&useCalSection=main
LOCATION:IBEW Local 350
URL:http://ibew2.org/index.cfm?zone=/unionactive/view_calendar.cfm&calendarID=6452858&thisdate=12/19/2013&useCalSection=main
DTSTART:20131219T220000Z
DTEND:20131219T230000Z
DTSTAMP:20260419T233526
TRIGGER:-PT60M
END:VEVENT
END:VCALENDAR
