BEGIN:VCALENDAR
VERSION:2.0
CALSCALE:GREGORIAN
PRODID:UnionActive
BEGIN:VEVENT
UID:6452854@ibew2.org
SUMMARY:Fulton Unit Meeting
DESCRIPTION:Contact:  \nLink for more information: http://ibew2.org/index.cfm?zone=/unionactive/view_calendar.cfm&calendarID=6452854&thisdate=09/18/2013&useCalSection=main
LOCATION:Cooperative headquarters
URL:http://ibew2.org/index.cfm?zone=/unionactive/view_calendar.cfm&calendarID=6452854&thisdate=09/18/2013&useCalSection=main
DTSTART:20130918T210000Z
DTEND:20130918T220000Z
DTSTAMP:20260419T233312
TRIGGER:-PT60M
END:VEVENT
END:VCALENDAR
