BEGIN:VCALENDAR
VERSION:2.0
CALSCALE:GREGORIAN
PRODID:UnionActive
BEGIN:VEVENT
UID:6452848@ibew2.org
SUMMARY:Excelsior Springs Unit Meeting
DESCRIPTION:Contact:  \nLink for more information: http://ibew2.org/index.cfm?zone=/unionactive/view_calendar.cfm&calendarID=6452848&thisdate=09/04/2013&useCalSection=main
LOCATION:work headquarters
URL:http://ibew2.org/index.cfm?zone=/unionactive/view_calendar.cfm&calendarID=6452848&thisdate=09/04/2013&useCalSection=main
DTSTART:20130904T210000Z
DTEND:20130904T220000Z
DTSTAMP:20260419T181748
TRIGGER:-PT60M
END:VEVENT
END:VCALENDAR
