BEGIN:VCALENDAR
VERSION:2.0
CALSCALE:GREGORIAN
PRODID:UnionActive
BEGIN:VEVENT
UID:6452845@ibew2.org
SUMMARY:Cuivre River Unit Meeting
DESCRIPTION:Contact:  \nLink for more information: http://ibew2.org/index.cfm?zone=/unionactive/view_calendar.cfm&calendarID=6452845&thisdate=07/09/2013&useCalSection=main
LOCATION:Troy office
URL:http://ibew2.org/index.cfm?zone=/unionactive/view_calendar.cfm&calendarID=6452845&thisdate=07/09/2013&useCalSection=main
DTSTART:20130709T210000Z
DTEND:20130709T220000Z
DTSTAMP:20260419T181819
TRIGGER:-PT60M
END:VEVENT
END:VCALENDAR
