BEGIN:VCALENDAR
VERSION:2.0
CALSCALE:GREGORIAN
PRODID:UnionActive
BEGIN:VEVENT
UID:6452839@ibew2.org
SUMMARY:Chillicothe Unit Meeting
DESCRIPTION:Contact:  \nLink for more information: http://ibew2.org/index.cfm?zone=/unionactive/view_calendar.cfm&calendarID=6452839&thisdate=07/18/2013&useCalSection=main
LOCATION:Royal Inn Pizza
URL:http://ibew2.org/index.cfm?zone=/unionactive/view_calendar.cfm&calendarID=6452839&thisdate=07/18/2013&useCalSection=main
DTSTART:20130718T233000Z
DTEND:20130719T003000Z
DTSTAMP:20260419T164506
TRIGGER:-PT60M
END:VEVENT
END:VCALENDAR
