BEGIN:VCALENDAR
VERSION:2.0
CALSCALE:GREGORIAN
PRODID:UnionActive
BEGIN:VEVENT
UID:6452838@ibew2.org
SUMMARY:Bourbon Unit Meeting
DESCRIPTION:Contact:  \nLink for more information: http://ibew2.org/index.cfm?zone=/unionactive/view_calendar.cfm&calendarID=6452838&thisdate=12/17/2013&useCalSection=main
LOCATION:Cooperative Headquarters
URL:http://ibew2.org/index.cfm?zone=/unionactive/view_calendar.cfm&calendarID=6452838&thisdate=12/17/2013&useCalSection=main
DTSTART:20131217T223000Z
DTEND:20131217T233000Z
DTSTAMP:20260419T213637
TRIGGER:-PT60M
END:VEVENT
END:VCALENDAR
