BEGIN:VCALENDAR
VERSION:2.0
CALSCALE:GREGORIAN
PRODID:UnionActive
BEGIN:VEVENT
UID:6452837@ibew2.org
SUMMARY:Bourbon Unit Meeting
DESCRIPTION:Contact:  \nLink for more information: http://ibew2.org/index.cfm?zone=/unionactive/view_calendar.cfm&calendarID=6452837&thisdate=10/15/2013&useCalSection=main
LOCATION:Cooperative Headquarters
URL:http://ibew2.org/index.cfm?zone=/unionactive/view_calendar.cfm&calendarID=6452837&thisdate=10/15/2013&useCalSection=main
DTSTART:20131015T213000Z
DTEND:20131015T223000Z
DTSTAMP:20260419T182341
TRIGGER:-PT60M
END:VEVENT
END:VCALENDAR
