BEGIN:VCALENDAR
VERSION:2.0
CALSCALE:GREGORIAN
PRODID:UnionActive
BEGIN:VEVENT
UID:6452835@ibew2.org
SUMMARY:Troy Unit Meeting
DESCRIPTION:Contact:  \nLink for more information: http://ibew2.org/index.cfm?zone=/unionactive/view_calendar.cfm&calendarID=6452835&thisdate=06/19/2013&useCalSection=main
LOCATION:Lincoln County Fairgrounds
URL:http://ibew2.org/index.cfm?zone=/unionactive/view_calendar.cfm&calendarID=6452835&thisdate=06/19/2013&useCalSection=main
DTSTART:20130619T220000Z
DTEND:20130619T230000Z
DTSTAMP:20260419T233153
TRIGGER:-PT60M
END:VEVENT
END:VCALENDAR
