BEGIN:VCALENDAR
VERSION:2.0
CALSCALE:GREGORIAN
PRODID:UnionActive
BEGIN:VEVENT
UID:6452833@ibew2.org
SUMMARY:St Louis Tree Trimmers Meeting
DESCRIPTION:Contact:  \nLink for more information: http://ibew2.org/index.cfm?zone=/unionactive/view_calendar.cfm&calendarID=6452833&thisdate=06/10/2013&useCalSection=main
LOCATION:St Louis Union Hall
URL:http://ibew2.org/index.cfm?zone=/unionactive/view_calendar.cfm&calendarID=6452833&thisdate=06/10/2013&useCalSection=main
DTSTART:20130610T213000Z
DTEND:20130610T223000Z
DTSTAMP:20260419T131918
TRIGGER:-PT60M
END:VEVENT
END:VCALENDAR
