BEGIN:VCALENDAR
VERSION:2.0
CALSCALE:GREGORIAN
PRODID:UnionActive
BEGIN:VEVENT
UID:6452826@ibew2.org
SUMMARY:Jefferson City Unit Meeting-CenturyLink
DESCRIPTION:Contact:  \nLink for more information: http://ibew2.org/index.cfm?zone=/unionactive/view_calendar.cfm&calendarID=6452826&thisdate=06/27/2013&useCalSection=main
LOCATION:Labor Temple
209 Flora Drive
Jefferson City, MO 65101
URL:http://ibew2.org/index.cfm?zone=/unionactive/view_calendar.cfm&calendarID=6452826&thisdate=06/27/2013&useCalSection=main
DTSTART:20130627T223000Z
DTEND:20130627T233000Z
DTSTAMP:20260419T182512
TRIGGER:-PT60M
END:VEVENT
END:VCALENDAR
