BEGIN:VCALENDAR
VERSION:2.0
CALSCALE:GREGORIAN
PRODID:UnionActive
BEGIN:VEVENT
UID:6452825@ibew2.org
SUMMARY:Hannibal Unit Meeting
DESCRIPTION:Contact:  \nLink for more information: http://ibew2.org/index.cfm?zone=/unionactive/view_calendar.cfm&calendarID=6452825&thisdate=06/20/2013&useCalSection=main
LOCATION:IBEW Local 350
801 Church Street
Hannibal, MO 63401
URL:http://ibew2.org/index.cfm?zone=/unionactive/view_calendar.cfm&calendarID=6452825&thisdate=06/20/2013&useCalSection=main
DTSTART:20130620T210000Z
DTEND:20130620T220000Z
DTSTAMP:20260419T233252
TRIGGER:-PT60M
END:VEVENT
END:VCALENDAR
