BEGIN:VCALENDAR
VERSION:2.0
CALSCALE:GREGORIAN
PRODID:UnionActive
BEGIN:VEVENT
UID:6452294@ibew2.org
SUMMARY:OSHA-20 hour class
DESCRIPTION:Contact: Contact Local 2 St Louis office to register - 314-645-2236 \nLink for more information: http://ibew2.org/index.cfm?zone=/unionactive/view_calendar.cfm&calendarID=6452294&thisdate=06/06/2013&useCalSection=main
LOCATION:IBEW Local 2 Training Center
1075 N Service Road W
St Clair, MO 63077
URL:http://ibew2.org/index.cfm?zone=/unionactive/view_calendar.cfm&calendarID=6452294&thisdate=06/06/2013&useCalSection=main
DTSTART:20130606T210000Z
DTEND:20130608T220000Z
DTSTAMP:20260419T114423
TRIGGER:-PT60M
END:VEVENT
END:VCALENDAR
