BEGIN:VCALENDAR
VERSION:2.0
CALSCALE:GREGORIAN
PRODID:UnionActive
BEGIN:VEVENT
UID:6063414@ibew2.org
SUMMARY:Troy Unit Meeting
DESCRIPTION:Contact:  \nLink for more information: http://ibew2.org/index.cfm?zone=/unionactive/view_calendar.cfm&calendarID=6063414&thisdate=02/20/2013&useCalSection=main
LOCATION:Knights of Columbus
2061 Grothe Road
Flint Hill, MO
URL:http://ibew2.org/index.cfm?zone=/unionactive/view_calendar.cfm&calendarID=6063414&thisdate=02/20/2013&useCalSection=main
DTSTART:20130220T230000Z
DTEND:20130221T000000Z
DTSTAMP:20260419T232937
TRIGGER:-PT60M
END:VEVENT
END:VCALENDAR
