BEGIN:VCALENDAR
VERSION:2.0
CALSCALE:GREGORIAN
PRODID:UnionActive
BEGIN:VEVENT
UID:6063407@ibew2.org
SUMMARY:Mexico Unit Meeting - Consolidated Physical group 
DESCRIPTION:Contact:  \nLink for more information: http://ibew2.org/index.cfm?zone=/unionactive/view_calendar.cfm&calendarID=6063407&thisdate=02/12/2013&useCalSection=main
LOCATION:Cooperative Headquarters
Hwy 54 East
Mexico, MO
URL:http://ibew2.org/index.cfm?zone=/unionactive/view_calendar.cfm&calendarID=6063407&thisdate=02/12/2013&useCalSection=main
DTSTART:20130212T213000Z
DTEND:20130212T223000Z
DTSTAMP:20260419T181352
TRIGGER:-PT60M
END:VEVENT
END:VCALENDAR
