BEGIN:VCALENDAR
VERSION:2.0
CALSCALE:GREGORIAN
PRODID:UnionActive
BEGIN:VEVENT
UID:6063406@ibew2.org
SUMMARY:Linn Unit Meeting
DESCRIPTION:Contact:  \nLink for more information: http://ibew2.org/index.cfm?zone=/unionactive/view_calendar.cfm&calendarID=6063406&thisdate=02/07/2013&useCalSection=main
LOCATION:
URL:http://ibew2.org/index.cfm?zone=/unionactive/view_calendar.cfm&calendarID=6063406&thisdate=02/07/2013&useCalSection=main
DTSTART:20130207T223000Z
DTEND:20130207T233000Z
DTSTAMP:20260419T164014
TRIGGER:-PT60M
END:VEVENT
END:VCALENDAR
