BEGIN:VCALENDAR
VERSION:2.0
CALSCALE:GREGORIAN
PRODID:UnionActive
BEGIN:VEVENT
UID:6063405@ibew2.org
SUMMARY:Lewistown Unit Meeting
DESCRIPTION:Contact:  \nLink for more information: http://ibew2.org/index.cfm?zone=/unionactive/view_calendar.cfm&calendarID=6063405&thisdate=02/13/2013&useCalSection=main
LOCATION:Lewistown Fire Department
104 Cherry Street
Lewistown, MO
URL:http://ibew2.org/index.cfm?zone=/unionactive/view_calendar.cfm&calendarID=6063405&thisdate=02/13/2013&useCalSection=main
DTSTART:20130213T223000Z
DTEND:20130213T233000Z
DTSTAMP:20260419T181539
TRIGGER:-PT60M
END:VEVENT
END:VCALENDAR
