BEGIN:VCALENDAR
VERSION:2.0
CALSCALE:GREGORIAN
PRODID:UnionActive
BEGIN:VEVENT
UID:6063401@ibew2.org
SUMMARY:Bourbon Unit Meeting
DESCRIPTION:Contact:  \nLink for more information: http://ibew2.org/index.cfm?zone=/unionactive/view_calendar.cfm&calendarID=6063401&thisdate=02/19/2013&useCalSection=main
LOCATION:Cooperative Service Building
Bourbon, MO
URL:http://ibew2.org/index.cfm?zone=/unionactive/view_calendar.cfm&calendarID=6063401&thisdate=02/19/2013&useCalSection=main
DTSTART:20130219T223000Z
DTEND:20130219T233000Z
DTSTAMP:20260419T213342
TRIGGER:-PT60M
END:VEVENT
END:VCALENDAR
