BEGIN:VCALENDAR
VERSION:2.0
CALSCALE:GREGORIAN
PRODID:UnionActive
BEGIN:VEVENT
UID:6063383@ibew2.org
SUMMARY:Jefferson City Unit Meeting
DESCRIPTION:Contact:  \nLink for more information: http://ibew2.org/index.cfm?zone=/unionactive/view_calendar.cfm&calendarID=6063383&thisdate=01/31/2013&useCalSection=main
LOCATION:Labor Temple 
209 Flora Drive
Jefferson City, MO
URL:http://ibew2.org/index.cfm?zone=/unionactive/view_calendar.cfm&calendarID=6063383&thisdate=01/31/2013&useCalSection=main
DTSTART:20130131T230000Z
DTEND:20130201T000000Z
DTSTAMP:20260419T195301
TRIGGER:-PT60M
END:VEVENT
END:VCALENDAR
