BEGIN:VCALENDAR
VERSION:2.0
CALSCALE:GREGORIAN
PRODID:UnionActive
BEGIN:VEVENT
UID:6063378@ibew2.org
SUMMARY:Fulton Unit Meeting
DESCRIPTION:Contact:  \nLink for more information: http://ibew2.org/index.cfm?zone=/unionactive/view_calendar.cfm&calendarID=6063378&thisdate=01/16/2013&useCalSection=main
LOCATION:Cooperative Headquarters
503 Truman Road
Fulton, MO
URL:http://ibew2.org/index.cfm?zone=/unionactive/view_calendar.cfm&calendarID=6063378&thisdate=01/16/2013&useCalSection=main
DTSTART:20130116T220000Z
DTEND:20130116T230000Z
DTSTAMP:20260419T132048
TRIGGER:-PT60M
END:VEVENT
END:VCALENDAR
