BEGIN:VCALENDAR
VERSION:2.0
CALSCALE:GREGORIAN
PRODID:UnionActive
BEGIN:VEVENT
UID:6063374@ibew2.org
SUMMARY:Excelsior Springs Unit Meeting
DESCRIPTION:Contact:  \nLink for more information: http://ibew2.org/index.cfm?zone=/unionactive/view_calendar.cfm&calendarID=6063374&thisdate=01/02/2013&useCalSection=main
LOCATION:Work Headquarters
Excelsior Springs, MO
URL:http://ibew2.org/index.cfm?zone=/unionactive/view_calendar.cfm&calendarID=6063374&thisdate=01/02/2013&useCalSection=main
DTSTART:20130102T220000Z
DTEND:20130102T230000Z
DTSTAMP:20260419T164121
TRIGGER:-PT60M
END:VEVENT
END:VCALENDAR
