BEGIN:VCALENDAR
VERSION:2.0
CALSCALE:GREGORIAN
PRODID:UnionActive
BEGIN:VEVENT
UID:6063373@ibew2.org
SUMMARY:Cuivre River Unit Meeting
DESCRIPTION:Contact:  \nLink for more information: http://ibew2.org/index.cfm?zone=/unionactive/view_calendar.cfm&calendarID=6063373&thisdate=01/08/2013&useCalSection=main
LOCATION:Cooperative Headquarters
1112 East Cherry Street
Troy, MO

URL:http://ibew2.org/index.cfm?zone=/unionactive/view_calendar.cfm&calendarID=6063373&thisdate=01/08/2013&useCalSection=main
DTSTART:20130108T220000Z
DTEND:20130108T230000Z
DTSTAMP:20260419T181310
TRIGGER:-PT60M
END:VEVENT
END:VCALENDAR
