BEGIN:VCALENDAR
VERSION:2.0
CALSCALE:GREGORIAN
PRODID:UnionActive
BEGIN:VEVENT
UID:6063369@ibew2.org
SUMMARY:Chillicothe Unit Meeting
DESCRIPTION:Contact:  \nLink for more information: http://ibew2.org/index.cfm?zone=/unionactive/view_calendar.cfm&calendarID=6063369&thisdate=01/17/2013&useCalSection=main
LOCATION:Royal Inn Pizza
750 South Washington
Chillicothe, MO
URL:http://ibew2.org/index.cfm?zone=/unionactive/view_calendar.cfm&calendarID=6063369&thisdate=01/17/2013&useCalSection=main
DTSTART:20130118T003000Z
DTEND:20130118T013000Z
DTSTAMP:20260419T182618
TRIGGER:-PT60M
END:VEVENT
END:VCALENDAR
