BEGIN:VCALENDAR
VERSION:2.0
CALSCALE:GREGORIAN
PRODID:UnionActive
BEGIN:VEVENT
UID:5700091@ibew2.org
SUMMARY:Labor Day
DESCRIPTION:Contact:  \nLink for more information: http://ibew2.org/index.cfm?zone=/unionactive/view_calendar.cfm&calendarID=5700091&thisdate=09/03/2012&useCalSection=main
LOCATION:IBEW Local 2, Downtown Parade, Picnic 
at Wilmore Park
URL:http://ibew2.org/index.cfm?zone=/unionactive/view_calendar.cfm&calendarID=5700091&thisdate=09/03/2012&useCalSection=main
DTSTART:20120903T120000Z
DTEND:20120903T130000Z
DTSTAMP:20260419T215353
TRIGGER:-PT60M
END:VEVENT
END:VCALENDAR
