BEGIN:VCALENDAR
VERSION:2.0
CALSCALE:GREGORIAN
PRODID:UnionActive
BEGIN:VEVENT
UID:5585833@ibew2.org
SUMMARY:Code of Excellence
DESCRIPTION:Contact: Please contact Amy at 314-645-2236 by Thursday, July 12, if you plan to attend this certification class. \nLink for more information: http://ibew2.org/index.cfm?zone=/unionactive/view_calendar.cfm&calendarID=5585833&thisdate=07/14/2012&useCalSection=main
LOCATION:IBEW Local 2 Training Center
1075 N Service Rd W
St Clair, MO 63077
URL:http://ibew2.org/index.cfm?zone=/unionactive/view_calendar.cfm&calendarID=5585833&thisdate=07/14/2012&useCalSection=main
DTSTART:20120714T140000Z
DTEND:20120714T160000Z
DTSTAMP:20260419T163904
TRIGGER:-PT60M
END:VEVENT
END:VCALENDAR
