BEGIN:VCALENDAR
VERSION:2.0
CALSCALE:GREGORIAN
PRODID:UnionActive
BEGIN:VEVENT
UID:5538104@ibew2.org
SUMMARY:Tipton Unit Meeting
DESCRIPTION:Contact:  \nLink for more information: http://ibew2.org/index.cfm?zone=/unionactive/view_calendar.cfm&calendarID=5538104&thisdate=10/02/2012&useCalSection=main
LOCATION:Morgan County Library,
Versailles, MO
URL:http://ibew2.org/index.cfm?zone=/unionactive/view_calendar.cfm&calendarID=5538104&thisdate=10/02/2012&useCalSection=main
DTSTART:20121002T213000Z
DTEND:20121002T223000Z
DTSTAMP:20260419T213523
TRIGGER:-PT60M
END:VEVENT
END:VCALENDAR
