BEGIN:VCALENDAR
VERSION:2.0
CALSCALE:GREGORIAN
PRODID:UnionActive
BEGIN:VEVENT
UID:5538100@ibew2.org
SUMMARY:St Louis - Tree Trimmers
DESCRIPTION:Contact:  \nLink for more information: http://ibew2.org/index.cfm?zone=/unionactive/view_calendar.cfm&calendarID=5538100&thisdate=08/13/2012&useCalSection=main
LOCATION:IBEW Local 2 - Main Union Hall,
2131 59th Street,
St Louis, MO
URL:http://ibew2.org/index.cfm?zone=/unionactive/view_calendar.cfm&calendarID=5538100&thisdate=08/13/2012&useCalSection=main
DTSTART:20120813T213000Z
DTEND:20120813T223000Z
DTSTAMP:20260419T181209
TRIGGER:-PT60M
END:VEVENT
END:VCALENDAR
