BEGIN:VCALENDAR
VERSION:2.0
CALSCALE:GREGORIAN
PRODID:UnionActive
BEGIN:VEVENT
UID:5538088@ibew2.org
SUMMARY:Mexico Unit - Consolidated 
DESCRIPTION:Contact:  \nLink for more information: http://ibew2.org/index.cfm?zone=/unionactive/view_calendar.cfm&calendarID=5538088&thisdate=12/11/2012&useCalSection=main
LOCATION:Cooperative Headquarters,
Hwy 54 East,
Mexico, MO
URL:http://ibew2.org/index.cfm?zone=/unionactive/view_calendar.cfm&calendarID=5538088&thisdate=12/11/2012&useCalSection=main
DTSTART:20121211T213000Z
DTEND:20121211T223000Z
DTSTAMP:20260419T195759
TRIGGER:-PT60M
END:VEVENT
END:VCALENDAR
